BEGIN:VCALENDAR
VERSION:2.0
PRODID:-//CircleHub - ECPv6.15.11//NONSGML v1.0//EN
CALSCALE:GREGORIAN
METHOD:PUBLISH
X-WR-CALNAME:CircleHub
X-ORIGINAL-URL:https://circlehub.net
X-WR-CALDESC:Events for CircleHub
REFRESH-INTERVAL;VALUE=DURATION:PT1H
X-Robots-Tag:noindex
X-PUBLISHED-TTL:PT1H
BEGIN:VTIMEZONE
TZID:UTC
BEGIN:STANDARD
TZOFFSETFROM:+0000
TZOFFSETTO:+0000
TZNAME:UTC
DTSTART:20220101T000000
END:STANDARD
END:VTIMEZONE
BEGIN:VEVENT
DTSTART;TZID=UTC:20230228T090000
DTEND;TZID=UTC:20230228T170000
DTSTAMP:20260421T112512
CREATED:20230223T152525Z
LAST-MODIFIED:20230302T151456Z
UID:10000001-1677574800-1677603600@circlehub.net
SUMMARY:Free Breakfast
DESCRIPTION:Come together as a community and enjoy breakfast on us! Or\, grab your favorite food items and get straight to work. Whatever you choose to do\, you won’t go hungry!
URL:https://circlehub.net/calendar/free-breakfast/2023-02-28/
LOCATION:Ventura\, 1300 Eastman Ave\, Ventura\, CA\, 93003\, United States
CATEGORIES:Ventura
ATTACH;FMTTYPE=image/jpeg:https://circlehub.net/wp-content/uploads/Breakfast-Ventura_11zon.jpg
END:VEVENT
END:VCALENDAR